BEGIN:VCALENDAR
VERSION:2.0
PRODID:-//Squarespace Inc/Squarespace 6//v6//EN
BEGIN:VEVENT
UID:58020327d1758ef192bf095c@squarespace.com
DTSTAMP:20161015T103635Z
DTSTART:20161118T220000Z
DTEND:20161121T220000Z
SUMMARY:REBOOT Retreat - Melbourne
END:VEVENT
END:VCALENDAR
