BEGIN:VCALENDAR
VERSION:2.0
PRODID:-//Squarespace Inc/Squarespace 6//v6//EN
BEGIN:VEVENT
UID:5801fd326a4963d46b4b90ef@squarespace.com
DTSTAMP:20161015T100237Z
DTSTART:20161214T000000Z
DTEND:20161215T013000Z
SUMMARY:WEBINAR - Practical Strategies to help Kids Move from Survival Mode 
 to Thinking Brain
END:VEVENT
END:VCALENDAR
