BEGIN:VCALENDAR
VERSION:2.0
PRODID:-//Squarespace Inc/Squarespace 6//v6//EN
BEGIN:VEVENT
UID:56e9ccdb3c44d843bfc05a70@squarespace.com
DTSTAMP:20160710T073553Z
DTSTART:20160710T223000Z
DTEND:20160711T002959Z
SUMMARY:Website Launch
END:VEVENT
END:VCALENDAR
