BEGIN:VCALENDAR
VERSION:2.0
PRODID:-//Squarespace Inc/Squarespace 6//v6//EN
BEGIN:VEVENT
UID:56ea3bb72eeb81e3d1df9159@squarespace.com
DTSTAMP:20160929T065901Z
DTSTART:20161018T223000Z
DTEND:20161019T005900Z
SUMMARY:Webinar - Core Activation and Performance Success
END:VEVENT
END:VCALENDAR
