BEGIN:VCALENDAR
VERSION:2.0
PRODID:-//Squarespace Inc/Squarespace 6//v6//EN
BEGIN:VEVENT
UID:56ea3c01a3360cea7a4086a4@squarespace.com
DTSTAMP:20160907T050615Z
DTSTART:20160819T113000Z
DTEND:20160823T003000Z
SUMMARY:REBOOT Retreat
END:VEVENT
END:VCALENDAR
