BEGIN:VCALENDAR
VERSION:2.0
PRODID:-//Squarespace Inc/Squarespace 6//v6//EN
BEGIN:VEVENT
UID:56ef8274b6aa60018edfd291@squarespace.com
DTSTAMP:20160416T100054Z
DTSTART:20160417T133000Z
DTEND:20160425T020000Z
SUMMARY:Camp Jabiru
END:VEVENT
END:VCALENDAR
