BEGIN:VCALENDAR
VERSION:2.0
PRODID:-//Squarespace Inc/Squarespace 6//v6//EN
BEGIN:VEVENT
UID:56ef835a356fb0e916df7478@squarespace.com
DTSTAMP:20160710T073726Z
DTSTART:20160522T140000Z
DTEND:20160522T190000Z
SUMMARY:#ZooDay16
END:VEVENT
END:VCALENDAR
