BEGIN:VCALENDAR
VERSION:2.0
PRODID:-//Squarespace Inc/Squarespace 6//v6//EN
BEGIN:VEVENT
UID:578493bcc534a5bdeacbe38c@squarespace.com
DTSTAMP:20160712T070539Z
DTSTART:20160713T010000Z
DTEND:20160713T020000Z
SUMMARY:New Website Content - It's Ready!
END:VEVENT
END:VCALENDAR
