BEGIN:VCALENDAR
VERSION:2.0
PRODID:-//Squarespace Inc/Squarespace 6//v6//EN
BEGIN:VEVENT
UID:5781f9ca03596e5098e9b03e@squarespace.com
DTSTAMP:20160907T051233Z
DTSTART:20160823T073000Z
DTEND:20160923T083000Z
SUMMARY:Early Links is building an App
END:VEVENT
END:VCALENDAR
