BEGIN:VCALENDAR
VERSION:2.0
PRODID:-//Squarespace Inc/Squarespace 6//v6//EN
BEGIN:VEVENT
UID:57cfa1cbbe6594f91110cf08@squarespace.com
DTSTAMP:20160907T054010Z
DTSTART:20160911T133000Z
DTEND:20160912T200000Z
SUMMARY:WORKSHOP - Student Professional Development
END:VEVENT
END:VCALENDAR
