BEGIN:VCALENDAR
VERSION:2.0
PRODID:-//Squarespace Inc/Squarespace 6//v6//EN
BEGIN:VEVENT
UID:57ecb7f1e58c6249da6a3e83@squarespace.com
DTSTAMP:20180121T003529Z
DTSTART:20160926T140000Z
DTEND:20160930T150000Z
SUMMARY:NOW AVAILABLE - Soft Tissue OT 
END:VEVENT
END:VCALENDAR
