BEGIN:VCALENDAR
VERSION:2.0
PRODID:-//Squarespace Inc/Squarespace 6//v6//EN
BEGIN:VEVENT
UID:587451b53a04117c40b274bc@squarespace.com
DTSTAMP:20170117T015150Z
DTSTART:20170118T180000Z
DTEND:20170127T190000Z
SUMMARY:Classroom Mastery - Group Program
END:VEVENT
END:VCALENDAR
