BEGIN:VCALENDAR
VERSION:2.0
PRODID:-//Squarespace Inc/Squarespace 6//v6//EN
BEGIN:VEVENT
UID:587d78e23a04118eabdac54f@squarespace.com
DTSTAMP:20170119T091129Z
DTSTART:20170118T170000Z
DTEND:20170131T180000Z
SUMMARY:REBOOT Sport - Online Series Launch
END:VEVENT
END:VCALENDAR
