BEGIN:VCALENDAR
VERSION:2.0
PRODID:-//Squarespace Inc/Squarespace 6//v6//EN
BEGIN:VEVENT
UID:58744ff6e4fcb5d3fa3ffa58@squarespace.com
DTSTAMP:20170117T015222Z
DTSTART:20170123T170000Z
DTEND:20170125T200000Z
SUMMARY:School Success - Group Program 
END:VEVENT
END:VCALENDAR
