BEGIN:VCALENDAR
VERSION:2.0
PRODID:-//Squarespace Inc/Squarespace 6//v6//EN
BEGIN:VEVENT
UID:59e476392aeba55391ba33d7@squarespace.com
DTSTAMP:20171016T092148Z
DTSTART:20171021T143000Z
DTEND:20171022T180000Z
SUMMARY:Athletics Carnival for Kids
END:VEVENT
END:VCALENDAR
