BEGIN:VCALENDAR
VERSION:2.0
PRODID:-//Squarespace Inc/Squarespace 6//v6//EN
BEGIN:VEVENT
UID:5a642182f9619ad9da87d49b@squarespace.com
DTSTAMP:20181130T021836Z
DTSTART:20180507T204500Z
DTEND:20181221T224500Z
SUMMARY:Fussy Eaters Group 2018
END:VEVENT
END:VCALENDAR
