BEGIN:VCALENDAR
VERSION:2.0
PRODID:-//Squarespace Inc/Squarespace 6//v6//EN
BEGIN:VEVENT
UID:59db583ce9bfdf464d4be612@squarespace.com
DTSTAMP:20171016T090447Z
DTSTART:20171020T204500Z
DTEND:20171020T214500Z
SUMMARY:Fussy Eaters Group
END:VEVENT
END:VCALENDAR
