BEGIN:VCALENDAR
VERSION:2.0
PRODID:-//Squarespace Inc/Squarespace 6//v6//EN
BEGIN:VEVENT
UID:59f84cd18e7b0fa62a294baf@squarespace.com
DTSTAMP:20180121T003446Z
DTSTART:20171031T103000Z
DTEND:20180131T123000Z
SUMMARY:Student Applications are OPEN for Camp Jabiru
END:VEVENT
END:VCALENDAR
