BEGIN:VCALENDAR
VERSION:2.0
PRODID:-//Squarespace Inc/Squarespace 6//v6//EN
BEGIN:VEVENT
UID:5889efc91e5b6ce7c379744e@squarespace.com
DTSTAMP:20170126T140106Z
DTSTART:20170222T000000Z
DTEND:20170222T010000Z
SUMMARY:RE-RUN : LIVE Q&A - Trauma Webinar 
END:VEVENT
END:VCALENDAR
