BEGIN:VCALENDAR
VERSION:2.0
PRODID:-//Squarespace Inc/Squarespace 6//v6//EN
BEGIN:VEVENT
UID:5928fca615d5db2bc1ab828a@squarespace.com
DTSTAMP:20170527T043002Z
DTSTART:20170515T043000Z
DTEND:20170609T000000Z
SUMMARY:Our new home...
END:VEVENT
END:VCALENDAR
