BEGIN:VCALENDAR
VERSION:2.0
PRODID:-//Squarespace Inc/Squarespace 6//v6//EN
BEGIN:VEVENT
UID:5a63e06b24a69436ca0dbb1f@squarespace.com
DTSTAMP:20180121T003633Z
DTSTART:20180301T230000Z
DTEND:20180331T200000Z
SUMMARY:ReBOOT Retreat - Manage your stress differently
END:VEVENT
END:VCALENDAR
