BEGIN:VCALENDAR
VERSION:2.0
PRODID:-//Squarespace Inc/Squarespace 6//v6//EN
BEGIN:VEVENT
UID:590b9f1f725e25665309b84f@squarespace.com
DTSTAMP:20170504T215056Z
DTSTART:20170602T220000Z
DTEND:20170605T200000Z
SUMMARY:ReBOOT Retreat - Manage your stress differently
END:VEVENT
END:VCALENDAR
