BEGIN:VCALENDAR
VERSION:2.0
PRODID:-//Squarespace Inc/Squarespace 6//v6//EN
BEGIN:VEVENT
UID:5a641b0853450ae813e5e587@squarespace.com
DTSTAMP:20181130T021908Z
DTSTART:20180605T140000Z
DTEND:20181221T030000Z
SUMMARY:Sensory PlayGroup
END:VEVENT
END:VCALENDAR
