BEGIN:VCALENDAR
VERSION:2.0
PRODID:-//Squarespace Inc/Squarespace 6//v6//EN
BEGIN:VEVENT
UID:5a927d5dec212d9451c724db@squarespace.com
DTSTAMP:20180307T105633Z
DTSTART:20180225T093000Z
DTEND:20180331T093000Z
SUMMARY:Home Visit Locations 
END:VEVENT
END:VCALENDAR
