BEGIN:VCALENDAR
VERSION:2.0
PRODID:-//Squarespace Inc/Squarespace 6//v6//EN
BEGIN:VEVENT
UID:5a9fc398f9619a03dd467c81@squarespace.com
DTSTAMP:20180307T105603Z
DTSTART:20180307T110000Z
DTEND:20180331T230000Z
SUMMARY:Research Study - Call for Participants
END:VEVENT
END:VCALENDAR
