BEGIN:VCALENDAR
VERSION:2.0
PRODID:-//Squarespace Inc/Squarespace 6//v6//EN
BEGIN:VEVENT
UID:5aeec2f06d2a732e28d6e1f2@squarespace.com
DTSTAMP:20180506T090414Z
DTSTART:20180725T141500Z
DTEND:20180829T203000Z
SUMMARY:iRest Yoga and Mediation - Hurstville
END:VEVENT
END:VCALENDAR
