BEGIN:VCALENDAR
VERSION:2.0
PRODID:-//Squarespace Inc/Squarespace 6//v6//EN
BEGIN:VEVENT
UID:5d06e5c890be8d00017dff2e@squarespace.com
DTSTAMP:20190703T012913Z
DTSTART:20190717T130000Z
DTEND:20190719T150000Z
SUMMARY:2020 School Readiness Group
END:VEVENT
END:VCALENDAR
