BEGIN:VCALENDAR
VERSION:2.0
PRODID:-//Squarespace Inc/Squarespace 6//v6//EN
BEGIN:VEVENT
UID:5d06e611e53ed5000123c646@squarespace.com
DTSTAMP:20190703T012900Z
DTSTART:20190716T153000Z
DTEND:20190718T173000Z
SUMMARY:Classroom Mastery and Friendship Group
END:VEVENT
END:VCALENDAR
