BEGIN:VCALENDAR
VERSION:2.0
PRODID:-//Squarespace Inc/Squarespace 6//v6//EN
BEGIN:VEVENT
UID:5d06e91e382dd2000178d13d@squarespace.com
DTSTAMP:20190819T052316Z
DTSTART:20190716T173000Z
DTEND:20190718T193000Z
SUMMARY:Life Skills 101
END:VEVENT
END:VCALENDAR
