BEGIN:VCALENDAR
VERSION:2.0
PRODID:-//Squarespace Inc/Squarespace 6//v6//EN
BEGIN:VEVENT
UID:5c9c9d2a1905f41199f0251a@squarespace.com
DTSTAMP:20190819T052836Z
DTSTART:20190415T180000Z
DTEND:20190418T193000Z
SUMMARY:Social Detectives Group
END:VEVENT
END:VCALENDAR
