BEGIN:VCALENDAR
VERSION:2.0
PRODID:-//Squarespace Inc/Squarespace 6//v6//EN
BEGIN:VEVENT
UID:5df19d29540cde2d46e42bb6@squarespace.com
DTSTAMP:20191223T024716Z
DTSTART:20200120T160000Z
DTEND:20200123T180000Z
SUMMARY:School Readiness Group - January 2020
END:VEVENT
END:VCALENDAR
