BEGIN:VCALENDAR
VERSION:2.0
PRODID:-//Squarespace Inc/Squarespace 6//v6//EN
BEGIN:VEVENT
UID:5d5a3432b451b5000135efea@squarespace.com
DTSTAMP:20190825T231143Z
DTSTART:20191008T130000Z
DTEND:20191011T200000Z
SUMMARY:2020 School Readiness Group - October 2019
END:VEVENT
END:VCALENDAR
