BEGIN:VCALENDAR
VERSION:2.0
PRODID:-//Squarespace Inc/Squarespace 6//v6//EN
BEGIN:VEVENT
UID:5df19ded3667f078aa41aafd@squarespace.com
DTSTAMP:20191223T032718Z
DTSTART:20200120T180000Z
DTEND:20200124T193000Z
SUMMARY:Fun &amp\; Friendship  - January 2020
END:VEVENT
END:VCALENDAR
