BEGIN:VCALENDAR
VERSION:2.0
PRODID:-//Squarespace Inc/Squarespace 6//v6//EN
BEGIN:VEVENT
UID:5d5a380ea827b90001877b9e@squarespace.com
DTSTAMP:20191212T015453Z
DTSTART:20191008T193000Z
DTEND:20191011T210000Z
SUMMARY:Fun &amp\; Friendship  - October 2019
END:VEVENT
END:VCALENDAR
