BEGIN:VCALENDAR
VERSION:2.0
PRODID:-//Squarespace Inc/Squarespace 6//v6//EN
BEGIN:VEVENT
UID:5d5a3244610bb30001ee52a3@squarespace.com
DTSTAMP:20190916T061721Z
DTSTART:20191010T150000Z
DTEND:20191010T200000Z
SUMMARY:Life Skills 101 - October 2019
END:VEVENT
END:VCALENDAR
