BEGIN:VCALENDAR
VERSION:2.0
PRODID:-//Squarespace Inc/Squarespace 6//v6//EN
BEGIN:VEVENT
UID:5df19e5e540cde2d46e44a32@squarespace.com
DTSTAMP:20191223T032735Z
DTSTART:20200121T190000Z
DTEND:20200122T210000Z
SUMMARY:Movement Explorers - January 2020
END:VEVENT
END:VCALENDAR
