BEGIN:VCALENDAR
VERSION:2.0
PRODID:-//Squarespace Inc/Squarespace 6//v6//EN
BEGIN:VEVENT
UID:5d5a37caa551c70001950c7c@squarespace.com
DTSTAMP:20191212T015646Z
DTSTART:20191001T140000Z
DTEND:20191004T160000Z
SUMMARY:Movement Explorers - October 2019
END:VEVENT
END:VCALENDAR
