BEGIN:VCALENDAR
VERSION:2.0
PRODID:-//Squarespace Inc/Squarespace 6//v6//EN
BEGIN:VEVENT
UID:5df19fd3ed917042ff5ccb08@squarespace.com
DTSTAMP:20200110T001019Z
DTSTART:20200114T160000Z
DTEND:20200114T210000Z
SUMMARY:The Adventurers - January 2020
END:VEVENT
END:VCALENDAR
