BEGIN:VCALENDAR
VERSION:2.0
PRODID:-//Squarespace Inc/Squarespace 6//v6//EN
BEGIN:VEVENT
UID:5df197677c4d113c0c0cc0cf@squarespace.com
DTSTAMP:20200110T001028Z
DTSTART:20200122T140000Z
DTEND:20200124T160000Z
SUMMARY:Social Detectives Group - January 2020
END:VEVENT
END:VCALENDAR
