BEGIN:VCALENDAR
VERSION:2.0
PRODID:-//Squarespace Inc/Squarespace 6//v6//EN
BEGIN:VEVENT
UID:5d06e6df498dca0001e252dd@squarespace.com
DTSTAMP:20190916T010132Z
DTSTART:20191008T130000Z
DTEND:20191011T150000Z
SUMMARY:Social Detectives Group - October 2019
END:VEVENT
END:VCALENDAR
