BEGIN:VCALENDAR
VERSION:2.0
PRODID:-//Squarespace Inc/Squarespace 6//v6//EN
BEGIN:VEVENT
UID:5de0ab4e02bf4d324f1cada5@squarespace.com
DTSTAMP:20191129T054032Z
DTSTART:20191129T053000Z
DTEND:20200120T063000Z
SUMMARY:Inviting OTs to Join our Team
END:VEVENT
END:VCALENDAR
